﻿BEGIN:VCALENDAR
VERSION:2.0
PRODID:-//wp-events-plugin.com//7.2.3.1//EN
TZID:Europe/Berlin
X-WR-TIMEZONE:Europe/Berlin
BEGIN:VEVENT
UID:34@tauchen-oberfranken.de
DTSTART;TZID=Europe/Berlin:20260422T190000
DTEND;TZID=Europe/Berlin:20260422T210000
DTSTAMP:20260418T074245Z
URL:https://www.tauchen-oberfranken.de/events/owd-kurs/
SUMMARY:Open Water Diver Kurs
DESCRIPTION:Open Water Diver Kurs\n\n\nWir starten eine neue Runde zum Open
  Water Diver Kurs.\n\nTauchen lernen\, kein Problem ! Rechtzeitig beginnen
  und demnächst Lieblings-Urlaubsziel einfach abtauchen !\n\nWir starten m
 it der ersten Theoriestunde um 19:00 Uhr. Alle folgenden Termine werden im
  Anschluss abgesprochen.\n\nBitte vorher mal telefonisch melden.\n\nEs gel
 ten die AGBs des Dive Team &gt\;Bayreuth (Preis zzgl. Verbandsgebühr)
ATTACH;FMTTYPE=image/jpeg:https://www.tauchen-oberfranken.de/wp-content/up
 loads/2018/08/thumbs_p1050655.jpg
CATEGORIES:Ausbildung
LOCATION:Dive Team Bayreuth\, Albrecht-Dürer-Straße 42\, Bayreuth\, Bayer
 n\, 95448\, Deutschland
GEO:49.959658;11.596384
X-APPLE-STRUCTURED-LOCATION;VALUE=URI;X-ADDRESS=Albrecht-Dürer-Straße 42\
 , Bayreuth\, Bayern\, 95448\, Deutschland;X-APPLE-RADIUS=100;X-TITLE=Dive 
 Team Bayreuth:geo:49.959658,11.596384
END:VEVENT
BEGIN:VTIMEZONE
TZID:Europe/Berlin
X-LIC-LOCATION:Europe/Berlin
BEGIN:DAYLIGHT
DTSTART:20260329T030000
TZOFFSETFROM:+0100
TZOFFSETTO:+0200
TZNAME:CEST
END:DAYLIGHT
END:VTIMEZONE
END:VCALENDAR